BEGIN:VCALENDAR
VERSION:2.0
PRODID:-//Pista Kart Bosco - ECPv6.3.2//NONSGML v1.0//EN
CALSCALE:GREGORIAN
METHOD:PUBLISH
X-WR-CALNAME:Pista Kart Bosco
X-ORIGINAL-URL:https://pistakartbosco.it
X-WR-CALDESC:Events for Pista Kart Bosco
REFRESH-INTERVAL;VALUE=DURATION:PT1H
X-Robots-Tag:noindex
X-PUBLISHED-TTL:PT1H
BEGIN:VTIMEZONE
TZID:UTC
BEGIN:STANDARD
TZOFFSETFROM:+0000
TZOFFSETTO:+0000
TZNAME:UTC
DTSTART:20260101T000000
END:STANDARD
END:VTIMEZONE
BEGIN:VEVENT
DTSTART;TZID=UTC:20260412T093000
DTEND;TZID=UTC:20260412T123000
DTSTAMP:20260412T132908
CREATED:20260227T155519Z
LAST-MODIFIED:20260410T172027Z
UID:7382-1775986200-1775997000@pistakartbosco.it
SUMMARY:1ª Gara Campionato Endurance SWS 2h 2026
DESCRIPTION:
URL:https://pistakartbosco.it/evento/1a-gara-campionato-endurance-sws-2h-2026/
END:VEVENT
BEGIN:VEVENT
DTSTART;TZID=UTC:20260419T093000
DTEND;TZID=UTC:20260419T110000
DTSTAMP:20260412T132908
CREATED:20260227T153311Z
LAST-MODIFIED:20260227T153311Z
UID:7337-1776591000-1776596400@pistakartbosco.it
SUMMARY:2ª Gara Campionato Under 15 2026
DESCRIPTION:
URL:https://pistakartbosco.it/evento/2a-gara-campionato-under-15-2026/
END:VEVENT
BEGIN:VEVENT
DTSTART;TZID=UTC:20260419T110000
DTEND;TZID=UTC:20260419T123000
DTSTAMP:20260412T132908
CREATED:20260227T154622Z
LAST-MODIFIED:20260227T154622Z
UID:7361-1776596400-1776601800@pistakartbosco.it
SUMMARY:2ª Gara Campionato Sprint SWS 2026
DESCRIPTION:
URL:https://pistakartbosco.it/evento/2a-gara-campionato-sprint-sws-2026/
END:VEVENT
BEGIN:VEVENT
DTSTART;TZID=UTC:20260426T120000
DTEND;TZID=UTC:20260426T210000
DTSTAMP:20260412T132908
CREATED:20260402T184110Z
LAST-MODIFIED:20260410T174242Z
UID:7569-1777204800-1777237200@pistakartbosco.it
SUMMARY:All You Can Drive
DESCRIPTION:
URL:https://pistakartbosco.it/evento/all-you-can-drive-3/
END:VEVENT
END:VCALENDAR