BEGIN:VCALENDAR
VERSION:2.0
PRODID:-//Pista Kart Bosco - ECPv6.3.2//NONSGML v1.0//EN
CALSCALE:GREGORIAN
METHOD:PUBLISH
X-ORIGINAL-URL:https://pistakartbosco.it
X-WR-CALDESC:Events for Pista Kart Bosco
REFRESH-INTERVAL;VALUE=DURATION:PT1H
X-Robots-Tag:noindex
X-PUBLISHED-TTL:PT1H
BEGIN:VTIMEZONE
TZID:UTC
BEGIN:STANDARD
TZOFFSETFROM:+0000
TZOFFSETTO:+0000
TZNAME:UTC
DTSTART:20260101T000000
END:STANDARD
END:VTIMEZONE
BEGIN:VEVENT
DTSTART;TZID=UTC:20260830T093000
DTEND;TZID=UTC:20260830T110000
DTSTAMP:20260421T091209
CREATED:20260227T153902Z
LAST-MODIFIED:20260227T153902Z
UID:7349-1788082200-1788087600@pistakartbosco.it
SUMMARY:6ª Gara Campionato Under 15 2026
DESCRIPTION:
URL:https://pistakartbosco.it/evento/6a-gara-campionato-under-15-2026/
END:VEVENT
BEGIN:VEVENT
DTSTART;TZID=UTC:20260830T110000
DTEND;TZID=UTC:20260830T123000
DTSTAMP:20260421T091209
CREATED:20260227T155004Z
LAST-MODIFIED:20260227T155004Z
UID:7373-1788087600-1788093000@pistakartbosco.it
SUMMARY:6ª Gara Campionato Sprint SWS 2026
DESCRIPTION:
URL:https://pistakartbosco.it/evento/6a-gara-campionato-sprint-sws-2026/
END:VEVENT
END:VCALENDAR