BEGIN:VCALENDAR
VERSION:2.0
PRODID:-//Pista Kart Bosco - ECPv6.3.2//NONSGML v1.0//EN
CALSCALE:GREGORIAN
METHOD:PUBLISH
X-ORIGINAL-URL:https://pistakartbosco.it
X-WR-CALDESC:Events for Pista Kart Bosco
REFRESH-INTERVAL;VALUE=DURATION:PT1H
X-Robots-Tag:noindex
X-PUBLISHED-TTL:PT1H
BEGIN:VTIMEZONE
TZID:UTC
BEGIN:STANDARD
TZOFFSETFROM:+0000
TZOFFSETTO:+0000
TZNAME:UTC
DTSTART:20260101T000000
END:STANDARD
END:VTIMEZONE
BEGIN:VEVENT
DTSTART;TZID=UTC:20260607T093000
DTEND;TZID=UTC:20260607T110000
DTSTAMP:20260420T073750
CREATED:20260227T151114Z
LAST-MODIFIED:20260227T151114Z
UID:7321-1780824600-1780830000@pistakartbosco.it
SUMMARY:3ª Gara Campionato Iron SWS 60 Minuti 2026
DESCRIPTION:
URL:https://pistakartbosco.it/evento/3a-gara-campionato-iron-sws-60-minuti-2026/
END:VEVENT
BEGIN:VEVENT
DTSTART;TZID=UTC:20260621T083000
DTEND;TZID=UTC:20260621T160000
DTSTAMP:20260420T073750
CREATED:20260227T155754Z
LAST-MODIFIED:20260410T172152Z
UID:7388-1782030600-1782057600@pistakartbosco.it
SUMMARY:3ª Gara Campionato Endurance SWS 7h 2026
DESCRIPTION:
URL:https://pistakartbosco.it/evento/3a-gara-campionato-endurance-sws-7h-2026/
END:VEVENT
BEGIN:VEVENT
DTSTART;TZID=UTC:20260628T093000
DTEND;TZID=UTC:20260628T110000
DTSTAMP:20260420T073750
CREATED:20260227T153515Z
LAST-MODIFIED:20260227T153515Z
UID:7343-1782639000-1782644400@pistakartbosco.it
SUMMARY:4ª Gara Campionato Under 15 2026
DESCRIPTION:
URL:https://pistakartbosco.it/evento/4a-gara-campionato-under-15-2026/
END:VEVENT
BEGIN:VEVENT
DTSTART;TZID=UTC:20260628T110000
DTEND;TZID=UTC:20260628T123000
DTSTAMP:20260420T073750
CREATED:20260227T154807Z
LAST-MODIFIED:20260227T154807Z
UID:7367-1782644400-1782649800@pistakartbosco.it
SUMMARY:4ª Gara Campionato Sprint SWS 2026
DESCRIPTION:
URL:https://pistakartbosco.it/evento/4a-gara-campionato-sprint-sws-2026/
END:VEVENT
END:VCALENDAR