BEGIN:VCALENDAR
VERSION:2.0
PRODID:-//Pista Kart Bosco - ECPv6.3.2//NONSGML v1.0//EN
CALSCALE:GREGORIAN
METHOD:PUBLISH
X-ORIGINAL-URL:https://pistakartbosco.it
X-WR-CALDESC:Events for Pista Kart Bosco
REFRESH-INTERVAL;VALUE=DURATION:PT1H
X-Robots-Tag:noindex
X-PUBLISHED-TTL:PT1H
BEGIN:VTIMEZONE
TZID:UTC
BEGIN:STANDARD
TZOFFSETFROM:+0000
TZOFFSETTO:+0000
TZNAME:UTC
DTSTART:20250101T000000
END:STANDARD
END:VTIMEZONE
BEGIN:VEVENT
DTSTART;TZID=UTC:20251101T090000
DTEND;TZID=UTC:20251101T170000
DTSTAMP:20260421T182845
CREATED:20251004T182751Z
LAST-MODIFIED:20251010T173412Z
UID:6971-1761987600-1762016400@pistakartbosco.it
SUMMARY:Gara Endurance SWS 7 Ore
DESCRIPTION:
URL:https://pistakartbosco.it/evento/gara-endurance-sws-6-ore/
END:VEVENT
BEGIN:VEVENT
DTSTART;TZID=UTC:20251109T100000
DTEND;TZID=UTC:20251109T120000
DTSTAMP:20260421T182845
CREATED:20250112T175145Z
LAST-MODIFIED:20251027T181734Z
UID:5722-1762682400-1762689600@pistakartbosco.it
SUMMARY:6a Gara Campionato Iron Pista Kart Bosco 2025 (60 minuti)
DESCRIPTION:
URL:https://pistakartbosco.it/evento/6a-gara-campionato-iron-pista-kart-bosco-2025-60-minuti/
END:VEVENT
BEGIN:VEVENT
DTSTART;TZID=UTC:20251121T130000
DTEND;TZID=UTC:20251121T200000
DTSTAMP:20260421T182845
CREATED:20251105T142603Z
LAST-MODIFIED:20251105T142603Z
UID:7069-1763730000-1763755200@pistakartbosco.it
SUMMARY:All you can drive
DESCRIPTION:
URL:https://pistakartbosco.it/evento/all-you-can-drive/
END:VEVENT
BEGIN:VEVENT
DTSTART;TZID=UTC:20251123T100000
DTEND;TZID=UTC:20251123T130000
DTSTAMP:20260421T182845
CREATED:20250112T175235Z
LAST-MODIFIED:20251027T181801Z
UID:5724-1763892000-1763902800@pistakartbosco.it
SUMMARY:6a Gara Campionato Endurance Pista Kart Bosco 2025 (2 ore)
DESCRIPTION:
URL:https://pistakartbosco.it/evento/6a-gara-campionato-endurance-pista-kart-bosco-2025-2-ore/
END:VEVENT
BEGIN:VEVENT
DTSTART;TZID=UTC:20251130T093000
DTEND;TZID=UTC:20251130T110000
DTSTAMP:20260421T182845
CREATED:20250112T175337Z
LAST-MODIFIED:20251031T160021Z
UID:5726-1764495000-1764500400@pistakartbosco.it
SUMMARY:8a Gara Campionato Under 15 Pista Kart Bosco 2025 (Super Gp)
DESCRIPTION:
URL:https://pistakartbosco.it/evento/8a-gara-campionato-under-15-pista-kart-bosco-2025-super-gp/
END:VEVENT
BEGIN:VEVENT
DTSTART;TZID=UTC:20251130T103000
DTEND;TZID=UTC:20251130T120000
DTSTAMP:20260421T182845
CREATED:20250112T175420Z
LAST-MODIFIED:20251027T183223Z
UID:5728-1764498600-1764504000@pistakartbosco.it
SUMMARY:8a Gara Campionato Sprint Pista Kart Bosco 2025 (Tipo B)
DESCRIPTION:
URL:https://pistakartbosco.it/evento/8a-gara-campionato-sprint-pista-kart-bosco-2025-tipo-b/
END:VEVENT
END:VCALENDAR