BEGIN:VCALENDAR
VERSION:2.0
PRODID:-//Pista Kart Bosco - ECPv6.3.2//NONSGML v1.0//EN
CALSCALE:GREGORIAN
METHOD:PUBLISH
X-ORIGINAL-URL:https://pistakartbosco.it
X-WR-CALDESC:Events for Pista Kart Bosco
REFRESH-INTERVAL;VALUE=DURATION:PT1H
X-Robots-Tag:noindex
X-PUBLISHED-TTL:PT1H
BEGIN:VTIMEZONE
TZID:UTC
BEGIN:STANDARD
TZOFFSETFROM:+0000
TZOFFSETTO:+0000
TZNAME:UTC
DTSTART:20240101T000000
END:STANDARD
END:VTIMEZONE
BEGIN:VEVENT
DTSTART;TZID=UTC:20240407T103000
DTEND;TZID=UTC:20240407T130000
DTSTAMP:20260424T170320
CREATED:20240208T182946Z
LAST-MODIFIED:20240208T182946Z
UID:4126-1712485800-1712494800@pistakartbosco.it
SUMMARY:2a Gara Campionato Under 15 Pista Kart Bosco 2024
DESCRIPTION:
URL:https://pistakartbosco.it/evento/2a-gara-campionato-under-15-pista-kart-bosco-2024/
LOCATION:Pista Kart Bosco\, Via Vecchia reale 4\, Bosco Marengo\, Italia
END:VEVENT
BEGIN:VEVENT
DTSTART;TZID=UTC:20240413T103000
DTEND;TZID=UTC:20240413T130000
DTSTAMP:20260424T170320
CREATED:20240208T183103Z
LAST-MODIFIED:20240208T183103Z
UID:4128-1713004200-1713013200@pistakartbosco.it
SUMMARY:2a Gara Campionato Sprint/Iron SWS Pista Kart Bosco 2024
DESCRIPTION:
URL:https://pistakartbosco.it/evento/2a-gara-campionato-sprint-iron-sws-pista-kart-bosco-2024/
LOCATION:Pista Kart Bosco\, Via Vecchia reale 4\, Bosco Marengo\, Italia
END:VEVENT
BEGIN:VEVENT
DTSTART;TZID=UTC:20240421T100000
DTEND;TZID=UTC:20240421T130000
DTSTAMP:20260424T170320
CREATED:20240208T183159Z
LAST-MODIFIED:20240208T183159Z
UID:4130-1713693600-1713704400@pistakartbosco.it
SUMMARY:2a Gara Campionato Endurance (2 ore) SWS Pista Kart Bosco 2024
DESCRIPTION:
URL:https://pistakartbosco.it/evento/2a-gara-campionato-endurance-2-ore-sws-pista-kart-bosco-2024/
LOCATION:Pista Kart Bosco\, Via Vecchia reale 4\, Bosco Marengo\, Italia
END:VEVENT
BEGIN:VEVENT
DTSTART;TZID=UTC:20240428T090000
DTEND;TZID=UTC:20240428T150000
DTSTAMP:20260424T170320
CREATED:20240208T185309Z
LAST-MODIFIED:20240208T185309Z
UID:4163-1714294800-1714316400@pistakartbosco.it
SUMMARY:Corso di Gruppo Bambini e Ragazzi
DESCRIPTION:
URL:https://pistakartbosco.it/evento/corso-di-gruppo-bambini-e-ragazzi/
LOCATION:Pista Kart Bosco\, Via Vecchia reale 4\, Bosco Marengo\, Italia
END:VEVENT
END:VCALENDAR