BEGIN:VCALENDAR
VERSION:2.0
PRODID:-//Pista Kart Bosco - ECPv6.3.2//NONSGML v1.0//EN
CALSCALE:GREGORIAN
METHOD:PUBLISH
X-WR-CALNAME:Pista Kart Bosco
X-ORIGINAL-URL:https://pistakartbosco.it
X-WR-CALDESC:Events for Pista Kart Bosco
REFRESH-INTERVAL;VALUE=DURATION:PT1H
X-Robots-Tag:noindex
X-PUBLISHED-TTL:PT1H
BEGIN:VTIMEZONE
TZID:UTC
BEGIN:STANDARD
TZOFFSETFROM:+0000
TZOFFSETTO:+0000
TZNAME:UTC
DTSTART:20240101T000000
END:STANDARD
END:VTIMEZONE
BEGIN:VEVENT
DTSTART;TZID=UTC:20250921T103000
DTEND;TZID=UTC:20250921T123000
DTSTAMP:20260420T035411
CREATED:20250112T174732Z
LAST-MODIFIED:20250912T165247Z
UID:5714-1758450600-1758457800@pistakartbosco.it
SUMMARY:6a Gara Campionato Sprint Pista Kart Bosco 2025 (Tipo B)
DESCRIPTION:
URL:https://pistakartbosco.it/evento/6a-gara-campionato-sprint-pista-kart-bosco-2025-tipo-b-2/
END:VEVENT
BEGIN:VEVENT
DTSTART;TZID=UTC:20250921T093000
DTEND;TZID=UTC:20250921T110000
DTSTAMP:20260420T035411
CREATED:20250112T135740Z
LAST-MODIFIED:20250306T162557Z
UID:5703-1758447000-1758452400@pistakartbosco.it
SUMMARY:6a Gara Campionato Under 15 Pista Kart Bosco 2025 (Super Gp)
DESCRIPTION:
URL:https://pistakartbosco.it/evento/6a-gara-campionato-under-15-pista-kart-bosco-2025-super-gp/
END:VEVENT
BEGIN:VEVENT
DTSTART;TZID=UTC:20250907T083000
DTEND;TZID=UTC:20250907T130000
DTSTAMP:20260420T035411
CREATED:20250112T135635Z
LAST-MODIFIED:20250306T161620Z
UID:5701-1757233800-1757250000@pistakartbosco.it
SUMMARY:5a Gara Campionato Endurance Pista Kart Bosco 2025 (4 ore)
DESCRIPTION:
URL:https://pistakartbosco.it/evento/5a-gara-campionato-endurance-pista-kart-bosco-2025-4-ore/
END:VEVENT
BEGIN:VEVENT
DTSTART;TZID=UTC:20250831T103000
DTEND;TZID=UTC:20250831T123000
DTSTAMP:20260420T035411
CREATED:20250802T153528Z
LAST-MODIFIED:20250802T153528Z
UID:6844-1756636200-1756643400@pistakartbosco.it
SUMMARY:GARA IROIN 31 AGOSTO
DESCRIPTION:
URL:https://pistakartbosco.it/evento/gara-iroin-31-agosto/
END:VEVENT
BEGIN:VEVENT
DTSTART;TZID=UTC:20250727T103000
DTEND;TZID=UTC:20250727T113000
DTSTAMP:20260420T035411
CREATED:20250112T135012Z
LAST-MODIFIED:20250306T155822Z
UID:5697-1753612200-1753615800@pistakartbosco.it
SUMMARY:5a Gara Campionato Sprint Pista Kart Bosco 2025 (Tipo A)
DESCRIPTION:
URL:https://pistakartbosco.it/evento/5a-gara-campionato-sprint-pista-kart-bosco-2025-tipo-a/
END:VEVENT
BEGIN:VEVENT
DTSTART;TZID=UTC:20250727T093000
DTEND;TZID=UTC:20250727T110000
DTSTAMP:20260420T035411
CREATED:20250112T135121Z
LAST-MODIFIED:20250306T155100Z
UID:5699-1753608600-1753614000@pistakartbosco.it
SUMMARY:5a Gara Campionato Under 15 Pista Kart Bosco 2025 (Under Sprint)
DESCRIPTION:
URL:https://pistakartbosco.it/evento/5a-gara-campionato-under-15-pista-kart-bosco-2025-under-sprint/
END:VEVENT
BEGIN:VEVENT
DTSTART;TZID=UTC:20250713T100000
DTEND;TZID=UTC:20250713T123000
DTSTAMP:20260420T035411
CREATED:20250112T134712Z
LAST-MODIFIED:20250704T160628Z
UID:5695-1752400800-1752409800@pistakartbosco.it
SUMMARY:4a Gara Campionato Endurance Pista Kart Bosco 2025 (2 ore)
DESCRIPTION:
URL:https://pistakartbosco.it/evento/4a-gara-campionato-endurance-pista-kart-bosco-2025-1-ora/
END:VEVENT
BEGIN:VEVENT
DTSTART;TZID=UTC:20250706T100000
DTEND;TZID=UTC:20250706T120000
DTSTAMP:20260420T035411
CREATED:20250112T134607Z
LAST-MODIFIED:20250704T155524Z
UID:5693-1751796000-1751803200@pistakartbosco.it
SUMMARY:4a Gara Campionato Iron Pista Kart Bosco 2025 (1 ora)
DESCRIPTION:
URL:https://pistakartbosco.it/evento/4a-gara-campionato-iron-pista-kart-bosco-2025-1-ora/
END:VEVENT
BEGIN:VEVENT
DTSTART;TZID=UTC:20250622T103000
DTEND;TZID=UTC:20250622T120000
DTSTAMP:20260420T035411
CREATED:20250112T134435Z
LAST-MODIFIED:20250518T174048Z
UID:5691-1750588200-1750593600@pistakartbosco.it
SUMMARY:4a Gara Campionato Sprint Pista Kart Bosco 2025 (Tipo B)
DESCRIPTION:
URL:https://pistakartbosco.it/evento/4a-gara-campionato-sprint-pista-kart-bosco-2025-tipo-b/
END:VEVENT
BEGIN:VEVENT
DTSTART;TZID=UTC:20250622T093000
DTEND;TZID=UTC:20250622T110000
DTSTAMP:20260420T035411
CREATED:20250112T134326Z
LAST-MODIFIED:20250306T153234Z
UID:5689-1750584600-1750590000@pistakartbosco.it
SUMMARY:4a Gara Campionato Under 15 Pista Kart Bosco 2025 (Super Gp)
DESCRIPTION:
URL:https://pistakartbosco.it/evento/4a-gara-campionato-under-15-pista-kart-bosco-2025-super-gp/
END:VEVENT
BEGIN:VEVENT
DTSTART;TZID=UTC:20250608T100000
DTEND;TZID=UTC:20250608T120000
DTSTAMP:20260420T035411
CREATED:20250112T134142Z
LAST-MODIFIED:20250306T152719Z
UID:5687-1749376800-1749384000@pistakartbosco.it
SUMMARY:3a Gara Campionato Endurance Pista Kart Bosco 2025 (1 ora)
DESCRIPTION:
URL:https://pistakartbosco.it/evento/3a-gara-campionato-endurance-pista-kart-bosco-2025-1-ora/
END:VEVENT
BEGIN:VEVENT
DTSTART;TZID=UTC:20250601T100000
DTEND;TZID=UTC:20250601T120000
DTSTAMP:20260420T035411
CREATED:20250112T134045Z
LAST-MODIFIED:20250518T173406Z
UID:5685-1748772000-1748779200@pistakartbosco.it
SUMMARY:3a Gara Campionato Iron Pista Kart Bosco 2025 (60 minuti)
DESCRIPTION:
URL:https://pistakartbosco.it/evento/3a-gara-campionato-iron-pista-kart-bosco-2025-60-minuti/
END:VEVENT
BEGIN:VEVENT
DTSTART;TZID=UTC:20250525T103000
DTEND;TZID=UTC:20250525T110000
DTSTAMP:20260420T035411
CREATED:20250112T133851Z
LAST-MODIFIED:20250123T161837Z
UID:5683-1748169000-1748170800@pistakartbosco.it
SUMMARY:3a Gara Campionato Under 15 Pista Kart Bosco 2025 (Under Sprint)
DESCRIPTION:
URL:https://pistakartbosco.it/evento/3a-gara-campionato-under-15-pista-kart-bosco-2025-under-sprint/
END:VEVENT
BEGIN:VEVENT
DTSTART;TZID=UTC:20250511T100000
DTEND;TZID=UTC:20250511T120000
DTSTAMP:20260420T035411
CREATED:20250112T133755Z
LAST-MODIFIED:20250306T150035Z
UID:5681-1746957600-1746964800@pistakartbosco.it
SUMMARY:3a Gara Campionato Sprint Pista Kart Bosco 2025 (Tipo A)
DESCRIPTION:
URL:https://pistakartbosco.it/evento/3a-gara-campionato-sprint-pista-kart-bosco-2025-tipo-a/
END:VEVENT
BEGIN:VEVENT
DTSTART;TZID=UTC:20250504T100000
DTEND;TZID=UTC:20250504T123000
DTSTAMP:20260420T035411
CREATED:20250112T133607Z
LAST-MODIFIED:20250327T143451Z
UID:5679-1746352800-1746361800@pistakartbosco.it
SUMMARY:2a Gara Campionato Iron Pista Kart Bosco 2025 (90 minuti)
DESCRIPTION:
URL:https://pistakartbosco.it/evento/2a-gara-campionato-iron-pista-kart-bosco-2025-90-minuti/
END:VEVENT
BEGIN:VEVENT
DTSTART;TZID=UTC:20250427T100000
DTEND;TZID=UTC:20250427T120000
DTSTAMP:20260420T035411
CREATED:20250112T133415Z
LAST-MODIFIED:20250306T130344Z
UID:5675-1745748000-1745755200@pistakartbosco.it
SUMMARY:2a Gara Campionato Sprint Pista Kart Bosco 2025 (Tipo B)
DESCRIPTION:
URL:https://pistakartbosco.it/evento/2a-gara-campionato-sprint-pista-kart-bosco-2025-tipo-b/
END:VEVENT
BEGIN:VEVENT
DTSTART;TZID=UTC:20250427T093000
DTEND;TZID=UTC:20250427T110000
DTSTAMP:20260420T035411
CREATED:20250112T133519Z
LAST-MODIFIED:20250306T125554Z
UID:5677-1745746200-1745751600@pistakartbosco.it
SUMMARY:2a Gara Campionato Under 15 Pista Kart Bosco 2025 (Super Gp)
DESCRIPTION: 
URL:https://pistakartbosco.it/evento/2a-gara-campionato-under-15-pista-kart-bosco-2025-super-gp/
END:VEVENT
BEGIN:VEVENT
DTSTART;TZID=UTC:20250413T093000
DTEND;TZID=UTC:20250413T130000
DTSTAMP:20260420T035411
CREATED:20250112T133231Z
LAST-MODIFIED:20250306T125040Z
UID:5671-1744536600-1744549200@pistakartbosco.it
SUMMARY:2a Gara Campionato Endurance Pista Kart Bosco 2025 (2 ore)
DESCRIPTION:
URL:https://pistakartbosco.it/evento/2a-gara-campionato-endurance-pista-kart-bosco-2025-2-ore/
END:VEVENT
BEGIN:VEVENT
DTSTART;TZID=UTC:20250330T103000
DTEND;TZID=UTC:20250330T113000
DTSTAMP:20260420T035411
CREATED:20250112T133116Z
LAST-MODIFIED:20250123T160642Z
UID:5669-1743330600-1743334200@pistakartbosco.it
SUMMARY:1a Gara Campionato Under 15 Pista Kart Bosco 2025 (Under Sprint)
DESCRIPTION:
URL:https://pistakartbosco.it/evento/1a-gara-campionato-under-15-pista-kart-bosco-2025/
END:VEVENT
BEGIN:VEVENT
DTSTART;TZID=UTC:20250316T100000
DTEND;TZID=UTC:20250316T123000
DTSTAMP:20260420T035411
CREATED:20250112T133024Z
LAST-MODIFIED:20250306T124557Z
UID:5667-1742119200-1742128200@pistakartbosco.it
SUMMARY:1a Gara Campionato Iron Pista Kart Bosco 2025 (60 minuti)
DESCRIPTION:
URL:https://pistakartbosco.it/evento/1a-gara-campionato-iron-pista-kart-bosco-2025/
END:VEVENT
BEGIN:VEVENT
DTSTART;TZID=UTC:20250302T110000
DTEND;TZID=UTC:20250302T120000
DTSTAMP:20260420T035411
CREATED:20250112T132914Z
LAST-MODIFIED:20250123T160448Z
UID:5665-1740913200-1740916800@pistakartbosco.it
SUMMARY:1a Gara Campionato Sprint Pista Kart Bosco 2025 (Tipo A)
DESCRIPTION:
URL:https://pistakartbosco.it/evento/1a-gara-campionato-sprint-pista-kart-bosco-2025-tipo-a/
END:VEVENT
BEGIN:VEVENT
DTSTART;TZID=UTC:20250223T100000
DTEND;TZID=UTC:20250223T103000
DTSTAMP:20260420T035411
CREATED:20250112T132801Z
LAST-MODIFIED:20250217T174345Z
UID:5663-1740304800-1740306600@pistakartbosco.it
SUMMARY:1a Gara Campionato Endurance Pista Kart Bosco 2025 (1 ora)
DESCRIPTION:
URL:https://pistakartbosco.it/evento/1a-gara-campionato-endurance-pista-kart-bosco-2025-1-ora/
END:VEVENT
BEGIN:VEVENT
DTSTART;TZID=UTC:20250202T090000
DTEND;TZID=UTC:20250202T130000
DTSTAMP:20260420T035411
CREATED:20250106T113911Z
LAST-MODIFIED:20250123T164701Z
UID:5639-1738486800-1738501200@pistakartbosco.it
SUMMARY:Endurance 4 Ore SWS
DESCRIPTION:
URL:https://pistakartbosco.it/evento/endurance-4-ore-sws/
END:VEVENT
BEGIN:VEVENT
DTSTART;TZID=UTC:20241222T110000
DTEND;TZID=UTC:20241222T170000
DTSTAMP:20260420T035411
CREATED:20241208T092820Z
LAST-MODIFIED:20241208T092820Z
UID:5567-1734865200-1734886800@pistakartbosco.it
SUMMARY:Trofeo di Natale SWS e Under 15
DESCRIPTION:
URL:https://pistakartbosco.it/evento/trofeo-di-natale-sws-e-under-15/
END:VEVENT
BEGIN:VEVENT
DTSTART;TZID=UTC:20241130T103000
DTEND;TZID=UTC:20241130T130000
DTSTAMP:20260420T035411
CREATED:20240209T130307Z
LAST-MODIFIED:20241116T093916Z
UID:4173-1732962600-1732971600@pistakartbosco.it
SUMMARY:9a Gara Campionato Sprint/Iron SWS Pista kart Bosco 2024
DESCRIPTION:
URL:https://pistakartbosco.it/evento/9a-gara-campionato-sprint-iron-sws-pista-kart-bosco-2024/
LOCATION:Pista Kart Bosco\, Via Vecchia reale 4\, Bosco Marengo\, Italia
END:VEVENT
BEGIN:VEVENT
DTSTART;TZID=UTC:20241117T140000
DTEND;TZID=UTC:20241117T150000
DTSTAMP:20260420T035411
CREATED:20240209T130451Z
LAST-MODIFIED:20241116T093823Z
UID:4175-1731852000-1731855600@pistakartbosco.it
SUMMARY:Gara Sprint SWS
DESCRIPTION:
URL:https://pistakartbosco.it/evento/9a-gara-campionato-endurance-1-ora-sws-pista-kart-bosco-2024/
LOCATION:Pista Kart Bosco\, Via Vecchia reale 4\, Bosco Marengo\, Italia
END:VEVENT
BEGIN:VEVENT
DTSTART;TZID=UTC:20241117T103000
DTEND;TZID=UTC:20241117T130000
DTSTAMP:20260420T035411
CREATED:20240209T130208Z
LAST-MODIFIED:20240209T130208Z
UID:4171-1731839400-1731848400@pistakartbosco.it
SUMMARY:9a Gara Campionato Under 15 Pista Kart Bosco 2024
DESCRIPTION:
URL:https://pistakartbosco.it/evento/9a-gara-campionato-under-15-pista-kart-bosco-2024/
LOCATION:Pista Kart Bosco\, Via Vecchia reale 4\, Bosco Marengo\, Italia
END:VEVENT
BEGIN:VEVENT
DTSTART;TZID=UTC:20241020T100000
DTEND;TZID=UTC:20241020T130000
DTSTAMP:20260420T035411
CREATED:20240209T130048Z
LAST-MODIFIED:20240209T130048Z
UID:4169-1729418400-1729429200@pistakartbosco.it
SUMMARY:8a Gara Campionato Endurance (2 ore) SWS Pista Kart Bosco 2024
DESCRIPTION:
URL:https://pistakartbosco.it/evento/8a-gara-campionato-endurance-2-ore-sws-pista-kart-bosco-2024/
LOCATION:Pista Kart Bosco\, Via Vecchia reale 4\, Bosco Marengo\, Italia
END:VEVENT
BEGIN:VEVENT
DTSTART;TZID=UTC:20241012T103000
DTEND;TZID=UTC:20241012T130000
DTSTAMP:20260420T035411
CREATED:20240209T125537Z
LAST-MODIFIED:20240209T125537Z
UID:4167-1728729000-1728738000@pistakartbosco.it
SUMMARY:8a Gara Campionato Sprint/Iron SWS Pista Kart Bosco 2024
DESCRIPTION:
URL:https://pistakartbosco.it/evento/8a-gara-campionato-sprint-iron-sws-pista-kart-bosco-2024/
LOCATION:Pista Kart Bosco\, Via Vecchia reale 4\, Bosco Marengo\, Italia
END:VEVENT
BEGIN:VEVENT
DTSTART;TZID=UTC:20241006T103000
DTEND;TZID=UTC:20241006T130000
DTSTAMP:20260420T035411
CREATED:20240209T125129Z
LAST-MODIFIED:20240209T125129Z
UID:4165-1728210600-1728219600@pistakartbosco.it
SUMMARY:8a Gara Campionato Under 15 Pista Kart Bosco 2024
DESCRIPTION:
URL:https://pistakartbosco.it/evento/8a-gara-campionato-under-15-pista-kart-bosco-2024/
LOCATION:Pista Kart Bosco\, Via Vecchia reale 4\, Bosco Marengo\, Italia
END:VEVENT
END:VCALENDAR