BEGIN:VCALENDAR
VERSION:2.0
PRODID:-//Pista Kart Bosco - ECPv6.3.2//NONSGML v1.0//EN
CALSCALE:GREGORIAN
METHOD:PUBLISH
X-ORIGINAL-URL:https://pistakartbosco.it
X-WR-CALDESC:Events for Pista Kart Bosco
REFRESH-INTERVAL;VALUE=DURATION:PT1H
X-Robots-Tag:noindex
X-PUBLISHED-TTL:PT1H
BEGIN:VTIMEZONE
TZID:UTC
BEGIN:STANDARD
TZOFFSETFROM:+0000
TZOFFSETTO:+0000
TZNAME:UTC
DTSTART:20260101T000000
END:STANDARD
END:VTIMEZONE
BEGIN:VEVENT
DTSTART;TZID=UTC:20260712T093000
DTEND;TZID=UTC:20260712T110000
DTSTAMP:20260420T045924
CREATED:20260227T151926Z
LAST-MODIFIED:20260227T151926Z
UID:7324-1783848600-1783854000@pistakartbosco.it
SUMMARY:4ª Gara Campionato Iron SWS 60 Minuti 2026
DESCRIPTION:
URL:https://pistakartbosco.it/evento/4a-gara-campionato-iron-sws-60-minuti-2026/
END:VEVENT
BEGIN:VEVENT
DTSTART;TZID=UTC:20260719T093000
DTEND;TZID=UTC:20260719T110000
DTSTAMP:20260420T045924
CREATED:20260227T153755Z
LAST-MODIFIED:20260227T153755Z
UID:7346-1784453400-1784458800@pistakartbosco.it
SUMMARY:5ª Gara Campionato Under 15 2026
DESCRIPTION:
URL:https://pistakartbosco.it/evento/5a-gara-campionato-under-15-2026/
END:VEVENT
BEGIN:VEVENT
DTSTART;TZID=UTC:20260719T110000
DTEND;TZID=UTC:20260719T123000
DTSTAMP:20260420T045924
CREATED:20260227T154859Z
LAST-MODIFIED:20260227T154859Z
UID:7370-1784458800-1784464200@pistakartbosco.it
SUMMARY:5ª Gara Campionato Sprint SWS 2026
DESCRIPTION:
URL:https://pistakartbosco.it/evento/5a-gara-campionato-sprint-sws-2026/
END:VEVENT
BEGIN:VEVENT
DTSTART;TZID=UTC:20260830T093000
DTEND;TZID=UTC:20260830T110000
DTSTAMP:20260420T045924
CREATED:20260227T153902Z
LAST-MODIFIED:20260227T153902Z
UID:7349-1788082200-1788087600@pistakartbosco.it
SUMMARY:6ª Gara Campionato Under 15 2026
DESCRIPTION:
URL:https://pistakartbosco.it/evento/6a-gara-campionato-under-15-2026/
END:VEVENT
BEGIN:VEVENT
DTSTART;TZID=UTC:20260830T110000
DTEND;TZID=UTC:20260830T123000
DTSTAMP:20260420T045924
CREATED:20260227T155004Z
LAST-MODIFIED:20260227T155004Z
UID:7373-1788087600-1788093000@pistakartbosco.it
SUMMARY:6ª Gara Campionato Sprint SWS 2026
DESCRIPTION:
URL:https://pistakartbosco.it/evento/6a-gara-campionato-sprint-sws-2026/
END:VEVENT
BEGIN:VEVENT
DTSTART;TZID=UTC:20260906T083000
DTEND;TZID=UTC:20260906T130000
DTSTAMP:20260420T045924
CREATED:20260227T160048Z
LAST-MODIFIED:20260410T172318Z
UID:7394-1788683400-1788699600@pistakartbosco.it
SUMMARY:5ª Gara Campionato Endurance SWS 4h 2026
DESCRIPTION:
URL:https://pistakartbosco.it/evento/5a-gara-campionato-endurance-sws-4h-2026/
END:VEVENT
BEGIN:VEVENT
DTSTART;TZID=UTC:20260913T093000
DTEND;TZID=UTC:20260913T113000
DTSTAMP:20260420T045924
CREATED:20260227T152112Z
LAST-MODIFIED:20260227T152112Z
UID:7328-1789291800-1789299000@pistakartbosco.it
SUMMARY:5ª Gara Campionato Iron SWS 90 Minuti 2026
DESCRIPTION:
URL:https://pistakartbosco.it/evento/5a-gara-campionato-iron-sws-90-minuti-2026/
END:VEVENT
BEGIN:VEVENT
DTSTART;TZID=UTC:20260927T093000
DTEND;TZID=UTC:20260927T110000
DTSTAMP:20260420T045924
CREATED:20260227T154116Z
LAST-MODIFIED:20260227T154116Z
UID:7352-1790501400-1790506800@pistakartbosco.it
SUMMARY:7ª Gara Campionato Under 15 2026
DESCRIPTION:
URL:https://pistakartbosco.it/evento/7a-gara-campionato-under-15-2026/
END:VEVENT
BEGIN:VEVENT
DTSTART;TZID=UTC:20260927T110000
DTEND;TZID=UTC:20260927T123000
DTSTAMP:20260420T045924
CREATED:20260227T155108Z
LAST-MODIFIED:20260227T155108Z
UID:7376-1790506800-1790512200@pistakartbosco.it
SUMMARY:7ª Gara Campionato Sprint SWS 2026
DESCRIPTION:
URL:https://pistakartbosco.it/evento/7a-gara-campionato-sprint-sws-2026/
END:VEVENT
BEGIN:VEVENT
DTSTART;TZID=UTC:20261011T093000
DTEND;TZID=UTC:20261011T110000
DTSTAMP:20260420T045924
CREATED:20260227T152755Z
LAST-MODIFIED:20260227T152755Z
UID:7331-1791711000-1791716400@pistakartbosco.it
SUMMARY:6ª Gara Campionato Iron SWS 60 Minuti 2026
DESCRIPTION:
URL:https://pistakartbosco.it/evento/6a-gara-campionato-iron-sws-60-minuti-2026/
END:VEVENT
BEGIN:VEVENT
DTSTART;TZID=UTC:20261018T093000
DTEND;TZID=UTC:20261018T110000
DTSTAMP:20260420T045924
CREATED:20260227T154304Z
LAST-MODIFIED:20260227T154304Z
UID:7355-1792315800-1792321200@pistakartbosco.it
SUMMARY:8ª Gara Campionato Under 15 2026
DESCRIPTION:
URL:https://pistakartbosco.it/evento/8a-gara-campionato-under-15-2026/
END:VEVENT
BEGIN:VEVENT
DTSTART;TZID=UTC:20261018T110000
DTEND;TZID=UTC:20261018T123000
DTSTAMP:20260420T045924
CREATED:20260227T155249Z
LAST-MODIFIED:20260227T155249Z
UID:7379-1792321200-1792326600@pistakartbosco.it
SUMMARY:8ª Gara Campionato Sprint SWS 2026
DESCRIPTION:
URL:https://pistakartbosco.it/evento/8a-gara-campionato-sprint-sws-2026/
END:VEVENT
BEGIN:VEVENT
DTSTART;TZID=UTC:20261108T083000
DTEND;TZID=UTC:20261108T160000
DTSTAMP:20260420T045924
CREATED:20260227T160217Z
LAST-MODIFIED:20260410T172407Z
UID:7397-1794126600-1794153600@pistakartbosco.it
SUMMARY:6ª Gara Campionato Endurance SWS 7h 2026
DESCRIPTION:
URL:https://pistakartbosco.it/evento/6a-gara-campionato-endurance-sws-7h-2026/
END:VEVENT
END:VCALENDAR