BEGIN:VCALENDAR
VERSION:2.0
PRODID:-//Pista Kart Bosco - ECPv6.3.2//NONSGML v1.0//EN
CALSCALE:GREGORIAN
METHOD:PUBLISH
X-ORIGINAL-URL:https://pistakartbosco.it
X-WR-CALDESC:Events for Pista Kart Bosco
REFRESH-INTERVAL;VALUE=DURATION:PT1H
X-Robots-Tag:noindex
X-PUBLISHED-TTL:PT1H
BEGIN:VTIMEZONE
TZID:UTC
BEGIN:STANDARD
TZOFFSETFROM:+0000
TZOFFSETTO:+0000
TZNAME:UTC
DTSTART:20260101T000000
END:STANDARD
END:VTIMEZONE
BEGIN:VEVENT
DTSTART;TZID=UTC:20260719T093000
DTEND;TZID=UTC:20260719T110000
DTSTAMP:20260422T102759
CREATED:20260227T153755Z
LAST-MODIFIED:20260227T153755Z
UID:7346-1784453400-1784458800@pistakartbosco.it
SUMMARY:5ª Gara Campionato Under 15 2026
DESCRIPTION:
URL:https://pistakartbosco.it/evento/5a-gara-campionato-under-15-2026/
END:VEVENT
BEGIN:VEVENT
DTSTART;TZID=UTC:20260719T110000
DTEND;TZID=UTC:20260719T123000
DTSTAMP:20260422T102759
CREATED:20260227T154859Z
LAST-MODIFIED:20260227T154859Z
UID:7370-1784458800-1784464200@pistakartbosco.it
SUMMARY:5ª Gara Campionato Sprint SWS 2026
DESCRIPTION:
URL:https://pistakartbosco.it/evento/5a-gara-campionato-sprint-sws-2026/
END:VEVENT
END:VCALENDAR