BEGIN:VCALENDAR
VERSION:2.0
PRODID:-//Pista Kart Bosco - ECPv6.3.2//NONSGML v1.0//EN
CALSCALE:GREGORIAN
METHOD:PUBLISH
X-WR-CALNAME:Pista Kart Bosco
X-ORIGINAL-URL:https://pistakartbosco.it
X-WR-CALDESC:Events for Pista Kart Bosco
REFRESH-INTERVAL;VALUE=DURATION:PT1H
X-Robots-Tag:noindex
X-PUBLISHED-TTL:PT1H
BEGIN:VTIMEZONE
TZID:UTC
BEGIN:STANDARD
TZOFFSETFROM:+0000
TZOFFSETTO:+0000
TZNAME:UTC
DTSTART:20260101T000000
END:STANDARD
END:VTIMEZONE
BEGIN:VEVENT
DTSTART;TZID=UTC:20260404T090000
DTEND;TZID=UTC:20260404T130000
DTSTAMP:20260419T172240
CREATED:20260319T181037Z
LAST-MODIFIED:20260319T181037Z
UID:7489-1775293200-1775307600@pistakartbosco.it
SUMMARY:2° Corso Di Guida Kart per Bambini
DESCRIPTION:
URL:https://pistakartbosco.it/evento/2-corso-di-guida-kart-per-bambini/
END:VEVENT
END:VCALENDAR