BEGIN:VCALENDAR
VERSION:2.0
PRODID:-//Pista Kart Bosco - ECPv6.3.2//NONSGML v1.0//EN
CALSCALE:GREGORIAN
METHOD:PUBLISH
X-WR-CALNAME:Pista Kart Bosco
X-ORIGINAL-URL:https://pistakartbosco.it
X-WR-CALDESC:Events for Pista Kart Bosco
REFRESH-INTERVAL;VALUE=DURATION:PT1H
X-Robots-Tag:noindex
X-PUBLISHED-TTL:PT1H
BEGIN:VTIMEZONE
TZID:UTC
BEGIN:STANDARD
TZOFFSETFROM:+0000
TZOFFSETTO:+0000
TZNAME:UTC
DTSTART:20260101T000000
END:STANDARD
END:VTIMEZONE
BEGIN:VEVENT
DTSTART;TZID=UTC:20260321T120000
DTEND;TZID=UTC:20260321T210000
DTSTAMP:20260421T093827
CREATED:20260308T093917Z
LAST-MODIFIED:20260308T093917Z
UID:7423-1774094400-1774126800@pistakartbosco.it
SUMMARY:All You Can Drive
DESCRIPTION:
URL:https://pistakartbosco.it/evento/all-you-can-drive-2/
END:VEVENT
END:VCALENDAR