BEGIN:VCALENDAR
VERSION:2.0
PRODID:-//Pista Kart Bosco - ECPv6.3.2//NONSGML v1.0//EN
CALSCALE:GREGORIAN
METHOD:PUBLISH
X-WR-CALNAME:Pista Kart Bosco
X-ORIGINAL-URL:https://pistakartbosco.it
X-WR-CALDESC:Events for Pista Kart Bosco
REFRESH-INTERVAL;VALUE=DURATION:PT1H
X-Robots-Tag:noindex
X-PUBLISHED-TTL:PT1H
BEGIN:VTIMEZONE
TZID:UTC
BEGIN:STANDARD
TZOFFSETFROM:+0000
TZOFFSETTO:+0000
TZNAME:UTC
DTSTART:20250101T000000
END:STANDARD
END:VTIMEZONE
BEGIN:VEVENT
DTSTART;TZID=UTC:20251031T163000
DTEND;TZID=UTC:20251031T193000
DTSTAMP:20260420T084333
CREATED:20251019T090202Z
LAST-MODIFIED:20251019T090202Z
UID:6995-1761928200-1761939000@pistakartbosco.it
SUMMARY:Trofeo di Halloween
DESCRIPTION:
URL:https://pistakartbosco.it/evento/trofeo-di-halloween/
END:VEVENT
END:VCALENDAR