BEGIN:VCALENDAR
VERSION:2.0
PRODID:-//Pista Kart Bosco - ECPv6.3.2//NONSGML v1.0//EN
CALSCALE:GREGORIAN
METHOD:PUBLISH
X-ORIGINAL-URL:https://pistakartbosco.it
X-WR-CALDESC:Events for Pista Kart Bosco
REFRESH-INTERVAL;VALUE=DURATION:PT1H
X-Robots-Tag:noindex
X-PUBLISHED-TTL:PT1H
BEGIN:VTIMEZONE
TZID:UTC
BEGIN:STANDARD
TZOFFSETFROM:+0000
TZOFFSETTO:+0000
TZNAME:UTC
DTSTART:20250101T000000
END:STANDARD
END:VTIMEZONE
BEGIN:VEVENT
DTSTART;TZID=UTC:20250727T093000
DTEND;TZID=UTC:20250727T110000
DTSTAMP:20260422T013115
CREATED:20250112T135121Z
LAST-MODIFIED:20250306T155100Z
UID:5699-1753608600-1753614000@pistakartbosco.it
SUMMARY:5a Gara Campionato Under 15 Pista Kart Bosco 2025 (Under Sprint)
DESCRIPTION:
URL:https://pistakartbosco.it/evento/5a-gara-campionato-under-15-pista-kart-bosco-2025-under-sprint/
END:VEVENT
BEGIN:VEVENT
DTSTART;TZID=UTC:20250727T103000
DTEND;TZID=UTC:20250727T113000
DTSTAMP:20260422T013115
CREATED:20250112T135012Z
LAST-MODIFIED:20250306T155822Z
UID:5697-1753612200-1753615800@pistakartbosco.it
SUMMARY:5a Gara Campionato Sprint Pista Kart Bosco 2025 (Tipo A)
DESCRIPTION:
URL:https://pistakartbosco.it/evento/5a-gara-campionato-sprint-pista-kart-bosco-2025-tipo-a/
END:VEVENT
END:VCALENDAR