BEGIN:VCALENDAR
VERSION:2.0
PRODID:-//Pista Kart Bosco - ECPv6.3.2//NONSGML v1.0//EN
CALSCALE:GREGORIAN
METHOD:PUBLISH
X-WR-CALNAME:Pista Kart Bosco
X-ORIGINAL-URL:https://pistakartbosco.it
X-WR-CALDESC:Events for Pista Kart Bosco
REFRESH-INTERVAL;VALUE=DURATION:PT1H
X-Robots-Tag:noindex
X-PUBLISHED-TTL:PT1H
BEGIN:VTIMEZONE
TZID:UTC
BEGIN:STANDARD
TZOFFSETFROM:+0000
TZOFFSETTO:+0000
TZNAME:UTC
DTSTART:20240101T000000
END:STANDARD
END:VTIMEZONE
BEGIN:VEVENT
DTSTART;TZID=UTC:20240804T103000
DTEND;TZID=UTC:20240804T130000
DTSTAMP:20260422T171028
CREATED:20240208T184717Z
LAST-MODIFIED:20240208T184717Z
UID:4152-1722767400-1722776400@pistakartbosco.it
SUMMARY:6a Gara Campionato Under 15 Pista Kart Bosco 2024
DESCRIPTION:
URL:https://pistakartbosco.it/evento/6a-gara-campionato-under-15-pista-kart-bosco-2024/
LOCATION:Pista Kart Bosco\, Via Vecchia reale 4\, Bosco Marengo\, Italia
END:VEVENT
END:VCALENDAR